BEGIN:VCALENDAR
VERSION:2.0
PRODID:-//65.23.73.100//NONSGML kigkonsult.se iCalcreator 2.16.12//
X-WR-TIMEZONE:
BEGIN:VEVENT
UID:58b4045d2c2781dcbf663a10720794a4
DTSTAMP:20210502T085126Z
DESCRIPTION:Virtual Event with University of California\, Irvine
DTSTART:20210226T000000
DTEND:20210228T000000
SUMMARY:48 Hours of Otolaryngology Updates
URL:
END:VEVENT
END:VCALENDAR
